BEGIN:VCALENDAR
VERSION:2.0
PRODID:-//Wyalusing Valley Museum Association - ECPv6.15.20//NONSGML v1.0//EN
CALSCALE:GREGORIAN
METHOD:PUBLISH
X-WR-CALNAME:Wyalusing Valley Museum Association
X-ORIGINAL-URL:https://wyalusingmuseum.com
X-WR-CALDESC:Events for Wyalusing Valley Museum Association
REFRESH-INTERVAL;VALUE=DURATION:PT1H
X-Robots-Tag:noindex
X-PUBLISHED-TTL:PT1H
BEGIN:VTIMEZONE
TZID:America/New_York
BEGIN:DAYLIGHT
TZOFFSETFROM:-0500
TZOFFSETTO:-0400
TZNAME:EDT
DTSTART:20240310T070000
END:DAYLIGHT
BEGIN:STANDARD
TZOFFSETFROM:-0400
TZOFFSETTO:-0500
TZNAME:EST
DTSTART:20241103T060000
END:STANDARD
BEGIN:DAYLIGHT
TZOFFSETFROM:-0500
TZOFFSETTO:-0400
TZNAME:EDT
DTSTART:20250309T070000
END:DAYLIGHT
BEGIN:STANDARD
TZOFFSETFROM:-0400
TZOFFSETTO:-0500
TZNAME:EST
DTSTART:20251102T060000
END:STANDARD
BEGIN:DAYLIGHT
TZOFFSETFROM:-0500
TZOFFSETTO:-0400
TZNAME:EDT
DTSTART:20260308T070000
END:DAYLIGHT
BEGIN:STANDARD
TZOFFSETFROM:-0400
TZOFFSETTO:-0500
TZNAME:EST
DTSTART:20261101T060000
END:STANDARD
END:VTIMEZONE
BEGIN:VEVENT
DTSTART;TZID=America/New_York:20250913T120000
DTEND;TZID=America/New_York:20250913T170000
DTSTAMP:20260420T035513
CREATED:20250123T212048Z
LAST-MODIFIED:20250123T212048Z
UID:920-1757764800-1757782800@wyalusingmuseum.com
SUMMARY:20th Wyalusing Valley Wine Festival
DESCRIPTION:The 20th Wyalusing Valley Wine Festival is Saturday September 13\, 2025. This event is a fundraiser for the Wyalusing Valley Museum and the Wyalusing Lions. To learn more\, visit the wine festival’s website https://wyalusingwinefestival.com/
URL:https://wyalusingmuseum.com/event/20th-wyalusing-valley-wine-festival/
LOCATION:Jack Pine Campus\, Tuscarora Wayne\, 80 5th Street\, Wyalusing\, PA\, 18853\, United States
CATEGORIES:Fundraiser
ATTACH;FMTTYPE=image/png:https://wyalusingmuseum.com/wp-content/uploads/2025/01/2025-wine-festival-event-banner.png
ORGANIZER;CN="Wyalusing Valley Museum":MAILTO:info@wyalusingmuseum.com
END:VEVENT
END:VCALENDAR